BEGIN:VCALENDAR
VERSION:2.0
PRODID:-//Curious Minds - ECPv6.1.4//NONSGML v1.0//EN
CALSCALE:GREGORIAN
METHOD:PUBLISH
X-ORIGINAL-URL:https://www.thecuriousminds.org
X-WR-CALDESC:Events for Curious Minds
REFRESH-INTERVAL;VALUE=DURATION:PT1H
X-Robots-Tag:noindex
X-PUBLISHED-TTL:PT1H
BEGIN:VTIMEZONE
TZID:America/New_York
BEGIN:DAYLIGHT
TZOFFSETFROM:-0500
TZOFFSETTO:-0400
TZNAME:EDT
DTSTART:20250309T070000
END:DAYLIGHT
BEGIN:STANDARD
TZOFFSETFROM:-0400
TZOFFSETTO:-0500
TZNAME:EST
DTSTART:20251102T060000
END:STANDARD
END:VTIMEZONE
BEGIN:VEVENT
DTSTART;VALUE=DATE:20250607
DTEND;VALUE=DATE:20250608
DTSTAMP:20260424T215534
CREATED:20241021T103344Z
LAST-MODIFIED:20241021T103344Z
UID:10000038-1749254400-1749340799@www.thecuriousminds.org
SUMMARY:Kindergarten Graduation
DESCRIPTION:
URL:https://www.thecuriousminds.org/event/kindergarten-graduation/
CATEGORIES:General Events
END:VEVENT
BEGIN:VEVENT
DTSTART;VALUE=DATE:20250612
DTEND;VALUE=DATE:20250613
DTSTAMP:20260424T215534
CREATED:20241021T103413Z
LAST-MODIFIED:20241021T103413Z
UID:10000039-1749686400-1749772799@www.thecuriousminds.org
SUMMARY:Last Day Spring Session
DESCRIPTION:
URL:https://www.thecuriousminds.org/event/last-day-spring-session/
CATEGORIES:General Events
END:VEVENT
BEGIN:VEVENT
DTSTART;VALUE=DATE:20250613
DTEND;VALUE=DATE:20250614
DTSTAMP:20260424T215534
CREATED:20241021T103446Z
LAST-MODIFIED:20241021T103446Z
UID:10000040-1749772800-1749859199@www.thecuriousminds.org
SUMMARY:Teacher Work Day - School Closed
DESCRIPTION:
URL:https://www.thecuriousminds.org/event/teacher-work-day-school-closed-2/
CATEGORIES:General Events
END:VEVENT
BEGIN:VEVENT
DTSTART;VALUE=DATE:20250616
DTEND;VALUE=DATE:20250617
DTSTAMP:20260424T215534
CREATED:20241021T103553Z
LAST-MODIFIED:20241021T103553Z
UID:10000041-1750032000-1750118399@www.thecuriousminds.org
SUMMARY:Summer Session Begins
DESCRIPTION:
URL:https://www.thecuriousminds.org/event/summer-session-begins/
CATEGORIES:General Events
END:VEVENT
END:VCALENDAR