BEGIN:VCALENDAR
VERSION:2.0
PRODID:-//Curious Minds - ECPv6.1.4//NONSGML v1.0//EN
CALSCALE:GREGORIAN
METHOD:PUBLISH
X-ORIGINAL-URL:https://www.thecuriousminds.org
X-WR-CALDESC:Events for Curious Minds
REFRESH-INTERVAL;VALUE=DURATION:PT1H
X-Robots-Tag:noindex
X-PUBLISHED-TTL:PT1H
BEGIN:VTIMEZONE
TZID:America/New_York
BEGIN:DAYLIGHT
TZOFFSETFROM:-0500
TZOFFSETTO:-0400
TZNAME:EDT
DTSTART:20250309T070000
END:DAYLIGHT
BEGIN:STANDARD
TZOFFSETFROM:-0400
TZOFFSETTO:-0500
TZNAME:EST
DTSTART:20251102T060000
END:STANDARD
END:VTIMEZONE
BEGIN:VEVENT
DTSTART;VALUE=DATE:20250808
DTEND;VALUE=DATE:20250809
DTSTAMP:20260424T190106
CREATED:20241021T103715Z
LAST-MODIFIED:20241021T103715Z
UID:10000044-1754611200-1754697599@www.thecuriousminds.org
SUMMARY:Last Day Summer Session
DESCRIPTION:
URL:https://www.thecuriousminds.org/event/last-day-summer-session/
CATEGORIES:General Events
END:VEVENT
BEGIN:VEVENT
DTSTART;VALUE=DATE:20250821
DTEND;VALUE=DATE:20250822
DTSTAMP:20260424T190106
CREATED:20230811T052000Z
LAST-MODIFIED:20250620T181635Z
UID:10000001-1755734400-1755820799@www.thecuriousminds.org
SUMMARY:First Day of School
DESCRIPTION:
URL:https://www.thecuriousminds.org/event/first-day-of-school/
CATEGORIES:General Events
END:VEVENT
END:VCALENDAR